<?xml version="1.0" encoding="UTF-8"?>
<Capabilities
    xmlns="http://www.opengis.net/wmts/1.0"
    xmlns:ows="http://www.opengis.net/ows/1.1"
    xmlns:xlink="http://www.w3.org/1999/xlink"
    xmlns:xsi="http://www.w3.org/2001/XMLSchema-instance"
    xsi:schemaLocation="http://www.opengis.net/wmts/1.0 http://schemas.opengis.net/wmts/1.0/wmtsGetCapabilities_response.xsd"
    version="1.0.0">
    <ows:ServiceIdentification>
        <ows:Title>気象庁 高解像度降水ナウキャスト 最新時刻</ows:Title>
        <ows:Abstract>
            保存済みの気象庁高解像度降水ナウキャストです。
            内部時刻はUTC、表示時刻はJSTです。
        </ows:Abstract>
        <ows:Keywords>
            <ows:Keyword>JMA</ows:Keyword>
            <ows:Keyword>Rainfall</ows:Keyword>
            <ows:Keyword>Nowcast</ows:Keyword>
            <ows:Keyword>WMTS</ows:Keyword>
        </ows:Keywords>
        <ows:ServiceType>WMTS</ows:ServiceType>
        <ows:ServiceTypeVersion>1.0.0</ows:ServiceTypeVersion>
        <ows:Fees>NONE</ows:Fees>
        <ows:AccessConstraints>NONE</ows:AccessConstraints>
    </ows:ServiceIdentification>
    <ows:ServiceProvider>
        <ows:ProviderName>Terra Labo</ows:ProviderName>
        <ows:ProviderSite
            xlink:href="https://ik1-334-27452.vs.sakura.ne.jp"/>
        <ows:ServiceContact>
            <ows:IndividualName>WMTS Administrator</ows:IndividualName>
            <ows:PositionName>Administrator</ows:PositionName>
            <ows:ContactInfo>
                <ows:OnlineResource
                    xlink:href="https://ik1-334-27452.vs.sakura.ne.jp/wmts/1.0.0/WMTSCapabilities.xml"/>
            </ows:ContactInfo>
            <ows:Role>pointOfContact</ows:Role>
        </ows:ServiceContact>
    </ows:ServiceProvider>
    <ows:OperationsMetadata>
        <ows:Operation name="GetCapabilities">
            <ows:DCP>
                <ows:HTTP>
                    <ows:Get xlink:href="https://ik1-334-27452.vs.sakura.ne.jp/wmts?">
                        <ows:Constraint name="GetEncoding">
                            <ows:AllowedValues>
                                <ows:Value>KVP</ows:Value>
                            </ows:AllowedValues>
                        </ows:Constraint>
                    </ows:Get>
                </ows:HTTP>
            </ows:DCP>
        </ows:Operation>
        <ows:Operation name="GetTile">
            <ows:DCP>
                <ows:HTTP>
                    <ows:Get xlink:href="https://ik1-334-27452.vs.sakura.ne.jp/wmts?">
                        <ows:Constraint name="GetEncoding">
                            <ows:AllowedValues>
                                <ows:Value>KVP</ows:Value>
                            </ows:AllowedValues>
                        </ows:Constraint>
                    </ows:Get>
                </ows:HTTP>
            </ows:DCP>
        </ows:Operation>
    </ows:OperationsMetadata>
    <Contents>
        <Layer>
            <ows:Title>気象庁 高解像度降水ナウキャスト 最新時刻</ows:Title>
            <ows:Abstract>
                気象庁が公開する高解像度降水ナウキャストです。
            </ows:Abstract>
            <ows:Keywords>
                <ows:Keyword>気象庁</ows:Keyword>
                <ows:Keyword>雨雲</ows:Keyword>
                <ows:Keyword>降水ナウキャスト</ows:Keyword>
            </ows:Keywords>
            <ows:WGS84BoundingBox>
                <ows:LowerCorner>-180 -85.0511287798066</ows:LowerCorner>
                <ows:UpperCorner>180 85.0511287798066</ows:UpperCorner>
            </ows:WGS84BoundingBox>
            <ows:Identifier>jma_nowcast</ows:Identifier>
            <Style isDefault="true">
                <ows:Title>Default</ows:Title>
                <ows:Identifier>default</ows:Identifier>
            </Style>
            <Format>image/png</Format>
            <TileMatrixSetLink>
                <TileMatrixSet>GoogleMapsCompatible</TileMatrixSet>
            </TileMatrixSetLink>
            <ResourceURL
                format="image/png"
                resourceType="tile"
                template="https://ik1-334-27452.vs.sakura.ne.jp/wmts/1.0.0/jma_nowcast/default/GoogleMapsCompatible/{TileMatrix}/{TileRow}/{TileCol}.png"/>
        </Layer>
        <TileMatrixSet>
            <ows:Title>
                Google Maps Compatible Web Mercator
            </ows:Title>
            <ows:Abstract>
                Standard Web Mercator tile matrix compatible
                with Google Maps and XYZ tiles.
            </ows:Abstract>
            <ows:Identifier>
                GoogleMapsCompatible
            </ows:Identifier>
            <ows:SupportedCRS>
                urn:ogc:def:crs:EPSG::3857
            </ows:SupportedCRS>
            <WellKnownScaleSet>
                urn:ogc:def:wkss:OGC:1.0:GoogleMapsCompatible
            </WellKnownScaleSet>
            <TileMatrix>
                <ows:Identifier>0</ows:Identifier>
                <ScaleDenominator>559082264.028717756271362</ScaleDenominator>
                <TopLeftCorner>-20037508.342789244 20037508.342789244</TopLeftCorner>
                <TileWidth>256</TileWidth>
                <TileHeight>256</TileHeight>
                <MatrixWidth>1</MatrixWidth>
                <MatrixHeight>1</MatrixHeight>
            </TileMatrix>
            <TileMatrix>
                <ows:Identifier>1</ows:Identifier>
                <ScaleDenominator>279541132.014358878135681</ScaleDenominator>
                <TopLeftCorner>-20037508.342789244 20037508.342789244</TopLeftCorner>
                <TileWidth>256</TileWidth>
                <TileHeight>256</TileHeight>
                <MatrixWidth>2</MatrixWidth>
                <MatrixHeight>2</MatrixHeight>
            </TileMatrix>
            <TileMatrix>
                <ows:Identifier>2</ows:Identifier>
                <ScaleDenominator>139770566.007179439067841</ScaleDenominator>
                <TopLeftCorner>-20037508.342789244 20037508.342789244</TopLeftCorner>
                <TileWidth>256</TileWidth>
                <TileHeight>256</TileHeight>
                <MatrixWidth>4</MatrixWidth>
                <MatrixHeight>4</MatrixHeight>
            </TileMatrix>
            <TileMatrix>
                <ows:Identifier>3</ows:Identifier>
                <ScaleDenominator>69885283.003589719533920</ScaleDenominator>
                <TopLeftCorner>-20037508.342789244 20037508.342789244</TopLeftCorner>
                <TileWidth>256</TileWidth>
                <TileHeight>256</TileHeight>
                <MatrixWidth>8</MatrixWidth>
                <MatrixHeight>8</MatrixHeight>
            </TileMatrix>
            <TileMatrix>
                <ows:Identifier>4</ows:Identifier>
                <ScaleDenominator>34942641.501794859766960</ScaleDenominator>
                <TopLeftCorner>-20037508.342789244 20037508.342789244</TopLeftCorner>
                <TileWidth>256</TileWidth>
                <TileHeight>256</TileHeight>
                <MatrixWidth>16</MatrixWidth>
                <MatrixHeight>16</MatrixHeight>
            </TileMatrix>
            <TileMatrix>
                <ows:Identifier>5</ows:Identifier>
                <ScaleDenominator>17471320.750897429883480</ScaleDenominator>
                <TopLeftCorner>-20037508.342789244 20037508.342789244</TopLeftCorner>
                <TileWidth>256</TileWidth>
                <TileHeight>256</TileHeight>
                <MatrixWidth>32</MatrixWidth>
                <MatrixHeight>32</MatrixHeight>
            </TileMatrix>
            <TileMatrix>
                <ows:Identifier>6</ows:Identifier>
                <ScaleDenominator>8735660.375448714941740</ScaleDenominator>
                <TopLeftCorner>-20037508.342789244 20037508.342789244</TopLeftCorner>
                <TileWidth>256</TileWidth>
                <TileHeight>256</TileHeight>
                <MatrixWidth>64</MatrixWidth>
                <MatrixHeight>64</MatrixHeight>
            </TileMatrix>
            <TileMatrix>
                <ows:Identifier>7</ows:Identifier>
                <ScaleDenominator>4367830.187724357470870</ScaleDenominator>
                <TopLeftCorner>-20037508.342789244 20037508.342789244</TopLeftCorner>
                <TileWidth>256</TileWidth>
                <TileHeight>256</TileHeight>
                <MatrixWidth>128</MatrixWidth>
                <MatrixHeight>128</MatrixHeight>
            </TileMatrix>
            <TileMatrix>
                <ows:Identifier>8</ows:Identifier>
                <ScaleDenominator>2183915.093862178735435</ScaleDenominator>
                <TopLeftCorner>-20037508.342789244 20037508.342789244</TopLeftCorner>
                <TileWidth>256</TileWidth>
                <TileHeight>256</TileHeight>
                <MatrixWidth>256</MatrixWidth>
                <MatrixHeight>256</MatrixHeight>
            </TileMatrix>
            <TileMatrix>
                <ows:Identifier>9</ows:Identifier>
                <ScaleDenominator>1091957.546931089367718</ScaleDenominator>
                <TopLeftCorner>-20037508.342789244 20037508.342789244</TopLeftCorner>
                <TileWidth>256</TileWidth>
                <TileHeight>256</TileHeight>
                <MatrixWidth>512</MatrixWidth>
                <MatrixHeight>512</MatrixHeight>
            </TileMatrix>
            <TileMatrix>
                <ows:Identifier>10</ows:Identifier>
                <ScaleDenominator>545978.773465544683859</ScaleDenominator>
                <TopLeftCorner>-20037508.342789244 20037508.342789244</TopLeftCorner>
                <TileWidth>256</TileWidth>
                <TileHeight>256</TileHeight>
                <MatrixWidth>1024</MatrixWidth>
                <MatrixHeight>1024</MatrixHeight>
            </TileMatrix>
            <TileMatrix>
                <ows:Identifier>11</ows:Identifier>
                <ScaleDenominator>272989.386732772341929</ScaleDenominator>
                <TopLeftCorner>-20037508.342789244 20037508.342789244</TopLeftCorner>
                <TileWidth>256</TileWidth>
                <TileHeight>256</TileHeight>
                <MatrixWidth>2048</MatrixWidth>
                <MatrixHeight>2048</MatrixHeight>
            </TileMatrix>
            <TileMatrix>
                <ows:Identifier>12</ows:Identifier>
                <ScaleDenominator>136494.693366386170965</ScaleDenominator>
                <TopLeftCorner>-20037508.342789244 20037508.342789244</TopLeftCorner>
                <TileWidth>256</TileWidth>
                <TileHeight>256</TileHeight>
                <MatrixWidth>4096</MatrixWidth>
                <MatrixHeight>4096</MatrixHeight>
            </TileMatrix>
            <TileMatrix>
                <ows:Identifier>13</ows:Identifier>
                <ScaleDenominator>68247.346683193085482</ScaleDenominator>
                <TopLeftCorner>-20037508.342789244 20037508.342789244</TopLeftCorner>
                <TileWidth>256</TileWidth>
                <TileHeight>256</TileHeight>
                <MatrixWidth>8192</MatrixWidth>
                <MatrixHeight>8192</MatrixHeight>
            </TileMatrix>
            <TileMatrix>
                <ows:Identifier>14</ows:Identifier>
                <ScaleDenominator>34123.673341596542741</ScaleDenominator>
                <TopLeftCorner>-20037508.342789244 20037508.342789244</TopLeftCorner>
                <TileWidth>256</TileWidth>
                <TileHeight>256</TileHeight>
                <MatrixWidth>16384</MatrixWidth>
                <MatrixHeight>16384</MatrixHeight>
            </TileMatrix>
            <TileMatrix>
                <ows:Identifier>15</ows:Identifier>
                <ScaleDenominator>17061.836670798271371</ScaleDenominator>
                <TopLeftCorner>-20037508.342789244 20037508.342789244</TopLeftCorner>
                <TileWidth>256</TileWidth>
                <TileHeight>256</TileHeight>
                <MatrixWidth>32768</MatrixWidth>
                <MatrixHeight>32768</MatrixHeight>
            </TileMatrix>
            <TileMatrix>
                <ows:Identifier>16</ows:Identifier>
                <ScaleDenominator>8530.918335399135685</ScaleDenominator>
                <TopLeftCorner>-20037508.342789244 20037508.342789244</TopLeftCorner>
                <TileWidth>256</TileWidth>
                <TileHeight>256</TileHeight>
                <MatrixWidth>65536</MatrixWidth>
                <MatrixHeight>65536</MatrixHeight>
            </TileMatrix>
            <TileMatrix>
                <ows:Identifier>17</ows:Identifier>
                <ScaleDenominator>4265.459167699567843</ScaleDenominator>
                <TopLeftCorner>-20037508.342789244 20037508.342789244</TopLeftCorner>
                <TileWidth>256</TileWidth>
                <TileHeight>256</TileHeight>
                <MatrixWidth>131072</MatrixWidth>
                <MatrixHeight>131072</MatrixHeight>
            </TileMatrix>
            <TileMatrix>
                <ows:Identifier>18</ows:Identifier>
                <ScaleDenominator>2132.729583849783921</ScaleDenominator>
                <TopLeftCorner>-20037508.342789244 20037508.342789244</TopLeftCorner>
                <TileWidth>256</TileWidth>
                <TileHeight>256</TileHeight>
                <MatrixWidth>262144</MatrixWidth>
                <MatrixHeight>262144</MatrixHeight>
            </TileMatrix>
            <TileMatrix>
                <ows:Identifier>19</ows:Identifier>
                <ScaleDenominator>1066.364791924891961</ScaleDenominator>
                <TopLeftCorner>-20037508.342789244 20037508.342789244</TopLeftCorner>
                <TileWidth>256</TileWidth>
                <TileHeight>256</TileHeight>
                <MatrixWidth>524288</MatrixWidth>
                <MatrixHeight>524288</MatrixHeight>
            </TileMatrix>
            <TileMatrix>
                <ows:Identifier>20</ows:Identifier>
                <ScaleDenominator>533.182395962445980</ScaleDenominator>
                <TopLeftCorner>-20037508.342789244 20037508.342789244</TopLeftCorner>
                <TileWidth>256</TileWidth>
                <TileHeight>256</TileHeight>
                <MatrixWidth>1048576</MatrixWidth>
                <MatrixHeight>1048576</MatrixHeight>
            </TileMatrix>
            <TileMatrix>
                <ows:Identifier>21</ows:Identifier>
                <ScaleDenominator>266.591197981222990</ScaleDenominator>
                <TopLeftCorner>-20037508.342789244 20037508.342789244</TopLeftCorner>
                <TileWidth>256</TileWidth>
                <TileHeight>256</TileHeight>
                <MatrixWidth>2097152</MatrixWidth>
                <MatrixHeight>2097152</MatrixHeight>
            </TileMatrix>
            <TileMatrix>
                <ows:Identifier>22</ows:Identifier>
                <ScaleDenominator>133.295598990611495</ScaleDenominator>
                <TopLeftCorner>-20037508.342789244 20037508.342789244</TopLeftCorner>
                <TileWidth>256</TileWidth>
                <TileHeight>256</TileHeight>
                <MatrixWidth>4194304</MatrixWidth>
                <MatrixHeight>4194304</MatrixHeight>
            </TileMatrix>
        </TileMatrixSet>
    </Contents>
    <ServiceMetadataURL
        xlink:href="https://ik1-334-27452.vs.sakura.ne.jp/wmts/1.0.0/WMTSCapabilities.xml"/>
</Capabilities>
